BEGIN:VCALENDAR
VERSION:2.0
PRODID:-//Garage Grande - ECPv5.5.0//NONSGML v1.0//EN
CALSCALE:GREGORIAN
METHOD:PUBLISH
X-WR-CALNAME:Garage Grande
X-ORIGINAL-URL:https://garagegrande.at
X-WR-CALDESC:Veranstaltungen für Garage Grande
BEGIN:VTIMEZONE
TZID:Europe/Berlin
BEGIN:DAYLIGHT
TZOFFSETFROM:+0100
TZOFFSETTO:+0200
TZNAME:CEST
DTSTART:20230326T010000
END:DAYLIGHT
BEGIN:STANDARD
TZOFFSETFROM:+0200
TZOFFSETTO:+0100
TZNAME:CET
DTSTART:20231029T010000
END:STANDARD
END:VTIMEZONE
BEGIN:VEVENT
DTSTART;TZID=Europe/Berlin:20231214T120000
DTEND;TZID=Europe/Berlin:20231214T180000
DTSTAMP:20260424T220909
CREATED:20231117T103833Z
LAST-MODIFIED:20231206T084914Z
UID:2718-1702555200-1702576800@garagegrande.at
SUMMARY:Weihnachts-Zauber
DESCRIPTION:Weihnachtszauber\nBevor wir in die Winterpause gehen wird noch einmal gebührlich gefeiert! \nAm 14.12. laden wir euch von 14-18 Uhr zu einer kleinen aber feinen Weihnachtsfeier gemeinsam mit Jugend am Werk und dem Offenen Kleiderschrank ein. \nWir freuen uns auf ein vorweihnachtliches gemütliches Zusammentreffen bei Maroni\, Kartoffelpuffer und Punsch! \nAm Programm steht ein Auftritt der Special Dancegroup von Jugend am Werk\, Maria sorgt mit ihrer Ziehharmonika für musikalische Untermalung und Katharina Lugavac wird ein paar Lieder singen. Stockschießen könnt ihr im ersten Stock und der Second-Hand-To-Go-Laden ist auch mit dabei. \nDer Offene Kleiderschrank im 3. OG lädt zur festlichen Kleidertauschparty. Komm vorbei und tausche deinen Glitzerfummel vom Vorjahr gegen ein neues Lieblingsstück für die Feiertage ein!
URL:https://garagegrande.at/event/weihnachtszauber/
CATEGORIES:#Nachbarschaft,#Sharing
ATTACH;FMTTYPE=image/jpeg:https://garagegrande.at/wp-content/uploads/2022/12/Weihnachtszauber1-scaled.jpg
END:VEVENT
END:VCALENDAR