BEGIN:VCALENDAR
VERSION:2.0
PRODID:-//Garage Grande - ECPv5.5.0//NONSGML v1.0//EN
CALSCALE:GREGORIAN
METHOD:PUBLISH
X-WR-CALNAME:Garage Grande
X-ORIGINAL-URL:https://garagegrande.at
X-WR-CALDESC:Veranstaltungen für Garage Grande
BEGIN:VTIMEZONE
TZID:Europe/Berlin
BEGIN:DAYLIGHT
TZOFFSETFROM:+0100
TZOFFSETTO:+0200
TZNAME:CEST
DTSTART:20230326T010000
END:DAYLIGHT
BEGIN:STANDARD
TZOFFSETFROM:+0200
TZOFFSETTO:+0100
TZNAME:CET
DTSTART:20231029T010000
END:STANDARD
END:VTIMEZONE
BEGIN:VEVENT
DTSTART;VALUE=DATE:20231003
DTEND;VALUE=DATE:20231025
DTSTAMP:20260421T101745
CREATED:20220510T094204Z
LAST-MODIFIED:20231017T081224Z
UID:2016-1696291200-1698191999@garagegrande.at
SUMMARY:Yoga
DESCRIPTION:Inklusives Yoga mit „Easy Yoga“\nBewegung\, Körper & Geist\, Diversität\nYogalehrerin Isa öffnet mit ihrem Projekt einen Raum\, in dem Vielfältigkeit erwünscht ist. \n„Yoga ist für alle Körper. Gehe dein Tempo\, erfahre deine Grenzen und nimm sie wahr. Ich freue mich auf den Raum den wir gemeinsam kreieren.„ \nInklusives Yoga\n3.10.-24.10.2023\njeden Dienstag\, 17.30 – 18.45\, 3.OG\nKeine Vorkenntnisse erforderlich.\nEintritt: Freiwillige Spende\nKomm einfach spontan vorbei\, schnupper rein und spür ob das was für dich ist oder melde dich gern bei mir wenn du Fragen zur Yogastunde\, zur Lage\, Anfahrtsweg\, Yogastil oder Ähnliches hast unter: isabel.mederle@hotmail.de
URL:https://garagegrande.at/event/inklusives-yoga/
CATEGORIES:#Bewegung,#Nachbarschaft
ATTACH;FMTTYPE=image/jpeg:https://garagegrande.at/wp-content/uploads/2022/05/Yoga.jpg
END:VEVENT
END:VCALENDAR